BEGIN:VCALENDAR
VERSION:2.0
PRODID:-//ChamberMaster//Event Calendar 2.0//EN
METHOD:PUBLISH
X-PUBLISHED-TTL:P3D
REFRESH-INTERVAL:P3D
CALSCALE:GREGORIAN
BEGIN:VEVENT
DTSTART:20180110T153000Z
DTEND:20180110T163000Z
X-MICROSOFT-CDO-ALLDAYEVENT:FALSE
SUMMARY:Coffee & Commerce - Transportation
DESCRIPTION:This month we'll discuss local transportation projects and goals in our region.  Steve King\, Community & Economic Development Director with the City of Wenatchee will present information pertaining to the INFRA proposal for the Apple Capital By-way.\n\n\n\n$10 pre-registered members\n\n$15 non-members
X-ALT-DESC;FMTTYPE=text/html:This month we&#39\;ll discuss local transportation projects and goals in our region.&nbsp\; Steve King\, Community &amp\; Economic Development Director with the City of Wenatchee will present information pertaining to the INFRA proposal for the Apple Capital By-way.<br />\n<br />\n$10 pre-registered members<br />\n$15 non-members
LOCATION:Wenatchee Convention Center 121 N. Wenatchee Ave
UID:e.289.4445
SEQUENCE:3
DTSTAMP:20260420T152344Z
URL:http://wenatcheechamber.chambermaster.com/events/details/coffee-commerce-transportation-4445
END:VEVENT

END:VCALENDAR
